BEGIN:VCALENDAR
VERSION:2.0
PRODID:-//Grounded Hypnosis - ECPv6.15.11//NONSGML v1.0//EN
CALSCALE:GREGORIAN
METHOD:PUBLISH
X-WR-CALNAME:Grounded Hypnosis
X-ORIGINAL-URL:https://groundedhypnosis.com
X-WR-CALDESC:Events for Grounded Hypnosis
REFRESH-INTERVAL;VALUE=DURATION:PT1H
X-Robots-Tag:noindex
X-PUBLISHED-TTL:PT1H
BEGIN:VTIMEZONE
TZID:America/New_York
BEGIN:DAYLIGHT
TZOFFSETFROM:-0500
TZOFFSETTO:-0400
TZNAME:EDT
DTSTART:20230312T070000
END:DAYLIGHT
BEGIN:STANDARD
TZOFFSETFROM:-0400
TZOFFSETTO:-0500
TZNAME:EST
DTSTART:20231105T060000
END:STANDARD
BEGIN:DAYLIGHT
TZOFFSETFROM:-0500
TZOFFSETTO:-0400
TZNAME:EDT
DTSTART:20240310T070000
END:DAYLIGHT
BEGIN:STANDARD
TZOFFSETFROM:-0400
TZOFFSETTO:-0500
TZNAME:EST
DTSTART:20241103T060000
END:STANDARD
BEGIN:DAYLIGHT
TZOFFSETFROM:-0500
TZOFFSETTO:-0400
TZNAME:EDT
DTSTART:20250309T070000
END:DAYLIGHT
BEGIN:STANDARD
TZOFFSETFROM:-0400
TZOFFSETTO:-0500
TZNAME:EST
DTSTART:20251102T060000
END:STANDARD
END:VTIMEZONE
BEGIN:VEVENT
DTSTART;TZID=America/New_York:20240320T190000
DTEND;TZID=America/New_York:20240320T203000
DTSTAMP:20260420T200017
CREATED:20240228T015826Z
LAST-MODIFIED:20240228T022729Z
UID:2192-1710961200-1710966600@groundedhypnosis.com
SUMMARY:Welcoming the Spring Equinox
DESCRIPTION:[vc_row][vc_column]\n    \n\n        \n        REGISTER HERE\n        \n\n    \n[vc_column_text]Wednesday\, March 20th from 7:00 – 8:30 pm for a special Welcoming Spring Equinox Event. \nThis event will include gathering in Circle to: \n\nIntention Setting and Journaling\nHypnotic Sound Bath\nOracle Reading (can be done in private)\n\nI will guide you through the process of how to create clear intentions for the upcoming season. You will need a notebook and pen for this. \nVibrations of fast and slow\, high and low will ripple around you and through you as I guide you on journey inward. Healing hypnotic techniques will be harmoniously woven through the sound to create a supported and safe space. The sound bath will include a wide range of carefully selected instruments that will feature a beautiful set of crystal singing bowls. You may sit or lay down during the session as you allow the deeply calming experience to wash over and through you. \nWhen I lead a hypnotic sound bath\, I verbally guide and lead you on your sound healing journey. In the beginning\, the instruments are like soothing sounds that will gently ease you into a meditative state. From there\, my words and the intuitively played instruments will take turns guiding you deeper to the center of our focused healing. Your unconscious mind will meet and release what is ready as the energetic intention holds compassionate space for you. Each session will sound and feel different as I intuitively tune into what is needed. \nMini-Oracle card readings offer the opportunity for your spirit guides\, oracles\, or source to give you messages. These messages show up initially in the cards that are pulled for you. I also channel\, inspired by the cards\, any other insights or understandings that Spirit wants you to know\, so that you can have more clarity in your life. These mini readings include cards pulled from one or two decks (usually of your choosing). \nYour confirmation email will give you pointers on what to bring and the location of the Grounding Room in Kanata.[/vc_column_text]\n    \n\n        \n        REGISTER HERE\n        \n\n    \n[/vc_column][/vc_row]
URL:https://groundedhypnosis.com/event/2192/
LOCATION:The Grounding Room\, Ontario\, Canada
CATEGORIES:Event,Social,Sound Journey,Spring Equinox
ATTACH;FMTTYPE=image/png:https://groundedhypnosis.com/wp-content/uploads/2024/02/Welcoming-the-Spring-Equinox-eb42ff1d26c0f1e215c2ed780e9f58e1.png
ORGANIZER;CN="Jennifer Lawrence":MAILTO:jennifer@groundedhypnosis.com
END:VEVENT
END:VCALENDAR