BEGIN:VCALENDAR
VERSION:2.0
PRODID:-//Grounded Hypnosis - ECPv6.15.11//NONSGML v1.0//EN
CALSCALE:GREGORIAN
METHOD:PUBLISH
X-WR-CALNAME:Grounded Hypnosis
X-ORIGINAL-URL:https://groundedhypnosis.com
X-WR-CALDESC:Events for Grounded Hypnosis
REFRESH-INTERVAL;VALUE=DURATION:PT1H
X-Robots-Tag:noindex
X-PUBLISHED-TTL:PT1H
BEGIN:VTIMEZONE
TZID:America/New_York
BEGIN:DAYLIGHT
TZOFFSETFROM:-0500
TZOFFSETTO:-0400
TZNAME:EDT
DTSTART:20220313T070000
END:DAYLIGHT
BEGIN:STANDARD
TZOFFSETFROM:-0400
TZOFFSETTO:-0500
TZNAME:EST
DTSTART:20221106T060000
END:STANDARD
BEGIN:DAYLIGHT
TZOFFSETFROM:-0500
TZOFFSETTO:-0400
TZNAME:EDT
DTSTART:20230312T070000
END:DAYLIGHT
BEGIN:STANDARD
TZOFFSETFROM:-0400
TZOFFSETTO:-0500
TZNAME:EST
DTSTART:20231105T060000
END:STANDARD
BEGIN:DAYLIGHT
TZOFFSETFROM:-0500
TZOFFSETTO:-0400
TZNAME:EDT
DTSTART:20240310T070000
END:DAYLIGHT
BEGIN:STANDARD
TZOFFSETFROM:-0400
TZOFFSETTO:-0500
TZNAME:EST
DTSTART:20241103T060000
END:STANDARD
END:VTIMEZONE
BEGIN:VEVENT
DTSTART;TZID=America/New_York:20231101T190000
DTEND;TZID=America/New_York:20231101T200000
DTSTAMP:20260422T080619
CREATED:20231018T121745Z
LAST-MODIFIED:20231018T125640Z
UID:1877-1698865200-1698868800@groundedhypnosis.com
SUMMARY:Hypnotic Sound Bath
DESCRIPTION:[vc_row][vc_column]\n    \n\n        \n        REGISTER HERE\n        \n\n    \n[vc_column_text]Together we create intentional release\, healing and connection in our powerful Hypnotic Sound Baths experiences. \nJoin me on Wednesday\, November 1st\, 15th & 29th at 7 pm in Kanata (location will be emailed to you). You can register for single sessions at $30 each or all three for a better price of $80. \nThe Oracle Read add on is $15 \nWant a deeper understanding of what a Hypnotic Sound Bath entails? \nVibrations of fast and slow\, high and low will ripple around you and through you as I guide you on journey inward. Healing hypnotic techniques will be harmoniously woven through the sound to create a supported and safe space. The sound bath will include a wide range of carefully selected instruments that will feature a beautiful set of crystal singing bowls. You may sit or lay down during the session as you allow the deeply calming experience to wash over and through you. \nWhen I lead a hypnotic sound bath\, I verbally guide and lead you on your sound healing journey. In the beginning\, the instruments are like soothing sounds that will gently ease you into a meditative state. From there\, my words and the intuitively played instruments will take turns guiding you deeper to the center of our focused healing. Your unconscious mind will meet and release what is ready as the energetic intention holds compassionate space for you. Each session will sound and feel different as I intuitively tune into what is needed. \nYour confirmation email will give you pointers on what to bring and the exact location in Kanata. \nREGISTER HERE[/vc_column_text]\n    \n\n        \n        REGISTER HERE\n        \n\n    \n[/vc_column][/vc_row]
URL:https://groundedhypnosis.com/event/hypnotic-sound-bath-19/
LOCATION:Kanata
CATEGORIES:Sound Journey
ATTACH;FMTTYPE=image/jpeg:https://groundedhypnosis.com/wp-content/uploads/2023/10/Sleek-and-Neutral-Spa-Business-Facebook-Ad-Facebook-Cover-3-6c52c9f6ca3cdb312f52593a2c90f0ed.jpg
ORGANIZER;CN="Jennifer Lawrence":MAILTO:jennifer@groundedhypnosis.com
END:VEVENT
BEGIN:VEVENT
DTSTART;TZID=America/New_York:20231112T100000
DTEND;TZID=America/New_York:20231112T153000
DTSTAMP:20260422T080619
CREATED:20231030T225450Z
LAST-MODIFIED:20231101T193539Z
UID:1963-1699783200-1699803000@groundedhypnosis.com
SUMMARY:Journey Inward
DESCRIPTION:[vc_row][vc_column]\n    \n\n        \n        Register Here\n        \n\n    \n[vc_column_text]How much better could you show up in your life if you felt whole\, cared for\, supported\, and loved? \nHow much easier could you move through life if you had easy to use resources and ever replenishing strength? \nHow much more satisfying would your life be if you felt connected to something bigger and more meaningful then the day-to-day grind? \nIf this has you craving those results\, I have some good news. \nI want to give you a deeply invigorating experience that will nourish your mind\, body and spirit leaving you feeling loved\, whole\, centered\, and empowered. \nI am holding an all-day retreat where I’ll guide you on a Journey Inward to find the answers you’ve been looking for. Just like Dorothy in the Wizard of Oz\, you have everything you need. I’ll just be your Glenda to guide you there. \nIn this incredible experience we’re going to: \n\nParticipate in a powerful exercise that takes something that used to drain you of your personal strength and transforms it into a symbol of skillful artistry and steadfastness\,\nRewrite old stories that have kept you stuck in old patterns\,\nNourish the parts of you that have been starved of self-love\,\nRealize how one of your fundamental needs is most likely being neglected and know how to tend to that moving forward\,\nDip your toe into what Spirituality means for you (hint it has nothing to do with “Religion”)\nEquip yourself with a toolkit of daily practices that will help you feel more whole\, loved and connected to your life!\n\nThis event is going to end with an integrative healing Sound Bath that will leaving you feeling lighter and more peaceful\, as you calibrate to the grounded healing you’ll have experienced.[/vc_column_text]\n    \n\n        \n        Register Here\n        \n\n    \n[/vc_column][/vc_row]
URL:https://groundedhypnosis.com/event/journey-inward/
LOCATION:Balance Within\, 20 Albert Street\,\, Carleton Place\, Ontario\, K7C 1P4\, Canada
CATEGORIES:Journey Inward,Retreat
ORGANIZER;CN="Jennifer Lawrence":MAILTO:jennifer@groundedhypnosis.com
END:VEVENT
BEGIN:VEVENT
DTSTART;TZID=America/New_York:20231115T190000
DTEND;TZID=America/New_York:20231115T210000
DTSTAMP:20260422T080619
CREATED:20231018T123027Z
LAST-MODIFIED:20231020T123228Z
UID:1885-1700074800-1700082000@groundedhypnosis.com
SUMMARY:Hypnotic Sound Bath
DESCRIPTION:[vc_row][vc_column]\n    \n\n        \n        REGISTER HERE\n        \n\n    \n[vc_column_text]Together we create intentional release\, healing and connection in our powerful Hypnotic Sound Baths experiences. \nJoin me on Wednesday\, November 1st\, 15th & 29th at 7 pm in Kanata (location will be emailed to you). You can register for single sessions at $30 each or all three for a better price of $80. \nThe Oracle Read add on is $15 \nWant a deeper understanding of what a Hypnotic Sound Bath entails? \nVibrations of fast and slow\, high and low will ripple around you and through you as I guide you on journey inward. Healing hypnotic techniques will be harmoniously woven through the sound to create a supported and safe space. The sound bath will include a wide range of carefully selected instruments that will feature a beautiful set of crystal singing bowls. You may sit or lay down during the session as you allow the deeply calming experience to wash over and through you. \nWhen I lead a hypnotic sound bath\, I verbally guide and lead you on your sound healing journey. In the beginning\, the instruments are like soothing sounds that will gently ease you into a meditative state. From there\, my words and the intuitively played instruments will take turns guiding you deeper to the center of our focused healing. Your unconscious mind will meet and release what is ready as the energetic intention holds compassionate space for you. Each session will sound and feel different as I intuitively tune into what is needed. \nYour confirmation email will give you pointers on what to bring and the exact location in Kanata.[/vc_column_text]\n    \n\n        \n        REGISTER HERE\n        \n\n    \n[/vc_column][/vc_row]
URL:https://groundedhypnosis.com/event/hypnotic-sound-bath-20/
LOCATION:Kanata
CATEGORIES:Social,Sound Journey
ATTACH;FMTTYPE=image/jpeg:https://groundedhypnosis.com/wp-content/uploads/2023/10/Sleek-and-Neutral-Spa-Business-Facebook-Ad-Facebook-Cover-3-6c52c9f6ca3cdb312f52593a2c90f0ed.jpg
ORGANIZER;CN="Jennifer Lawrence":MAILTO:jennifer@groundedhypnosis.com
END:VEVENT
BEGIN:VEVENT
DTSTART;TZID=America/New_York:20231129T190000
DTEND;TZID=America/New_York:20231129T200000
DTSTAMP:20260422T080619
CREATED:20231018T123422Z
LAST-MODIFIED:20231020T123151Z
UID:1889-1701284400-1701288000@groundedhypnosis.com
SUMMARY:Hypnotic Sound Bath
DESCRIPTION:[vc_row][vc_column]\n    \n\n        \n        REGISTER HERE\n        \n\n    \n[vc_column_text]Together we create intentional release\, healing and connection in our powerful Hypnotic Sound Baths experiences. \nJoin me on Wednesday\, November 1st\, 15th & 29th at 7 pm in Kanata (location will be emailed to you). You can register for single sessions at $30 each or all three for a better price of $80. \nThe Oracle Read add on is $15 \nWant a deeper understanding of what a Hypnotic Sound Bath entails? \nVibrations of fast and slow\, high and low will ripple around you and through you as I guide you on journey inward. Healing hypnotic techniques will be harmoniously woven through the sound to create a supported and safe space. The sound bath will include a wide range of carefully selected instruments that will feature a beautiful set of crystal singing bowls. You may sit or lay down during the session as you allow the deeply calming experience to wash over and through you. \nWhen I lead a hypnotic sound bath\, I verbally guide and lead you on your sound healing journey. In the beginning\, the instruments are like soothing sounds that will gently ease you into a meditative state. From there\, my words and the intuitively played instruments will take turns guiding you deeper to the center of our focused healing. Your unconscious mind will meet and release what is ready as the energetic intention holds compassionate space for you. Each session will sound and feel different as I intuitively tune into what is needed. \nYour confirmation email will give you pointers on what to bring and the exact location in Kanata.[/vc_column_text]\n    \n\n        \n        REGISTER HERE\n        \n\n    \n[/vc_column][/vc_row]
URL:https://groundedhypnosis.com/event/hypnotic-sound-bath-21/
LOCATION:Kanata
CATEGORIES:Social
ATTACH;FMTTYPE=image/jpeg:https://groundedhypnosis.com/wp-content/uploads/2023/10/Sleek-and-Neutral-Spa-Business-Facebook-Ad-Facebook-Cover-3-6c52c9f6ca3cdb312f52593a2c90f0ed.jpg
ORGANIZER;CN="Jennifer Lawrence":MAILTO:jennifer@groundedhypnosis.com
END:VEVENT
END:VCALENDAR