BEGIN:VCALENDAR
VERSION:2.0
PRODID:-//Grounded Hypnosis - ECPv6.15.11//NONSGML v1.0//EN
CALSCALE:GREGORIAN
METHOD:PUBLISH
X-ORIGINAL-URL:https://groundedhypnosis.com
X-WR-CALDESC:Events for Grounded Hypnosis
REFRESH-INTERVAL;VALUE=DURATION:PT1H
X-Robots-Tag:noindex
X-PUBLISHED-TTL:PT1H
BEGIN:VTIMEZONE
TZID:America/New_York
BEGIN:DAYLIGHT
TZOFFSETFROM:-0500
TZOFFSETTO:-0400
TZNAME:EDT
DTSTART:20220313T070000
END:DAYLIGHT
BEGIN:STANDARD
TZOFFSETFROM:-0400
TZOFFSETTO:-0500
TZNAME:EST
DTSTART:20221106T060000
END:STANDARD
BEGIN:DAYLIGHT
TZOFFSETFROM:-0500
TZOFFSETTO:-0400
TZNAME:EDT
DTSTART:20230312T070000
END:DAYLIGHT
BEGIN:STANDARD
TZOFFSETFROM:-0400
TZOFFSETTO:-0500
TZNAME:EST
DTSTART:20231105T060000
END:STANDARD
BEGIN:DAYLIGHT
TZOFFSETFROM:-0500
TZOFFSETTO:-0400
TZNAME:EDT
DTSTART:20240310T070000
END:DAYLIGHT
BEGIN:STANDARD
TZOFFSETFROM:-0400
TZOFFSETTO:-0500
TZNAME:EST
DTSTART:20241103T060000
END:STANDARD
END:VTIMEZONE
BEGIN:VEVENT
DTSTART;TZID=America/New_York:20231212T190000
DTEND;TZID=America/New_York:20231212T210000
DTSTAMP:20260422T062819
CREATED:20231130T205855Z
LAST-MODIFIED:20231130T210936Z
UID:2004-1702407600-1702414800@groundedhypnosis.com
SUMMARY:Hypnotic Sound Bath
DESCRIPTION:[vc_row][vc_column]\n    \n\n        \n        REGISTER HERE\n        \n\n    \n[vc_column_text]Join me on\, Tuesday\, December 12 at 7 pm for a Gratitude Sound Bath \nWant a deeper understanding of what a Hypnotic Sound Bath entails? \nVibrations of fast and slow\, high and low will ripple around you and through you as I guide you on journey inward. Healing hypnotic techniques will be harmoniously woven through the sound to create a supported and safe space. The sound bath will include a wide range of carefully selected instruments that will feature a beautiful set of crystal singing bowls. You may sit or lay down during the session as you allow the deeply calming experience to wash over and through you. \nWhen I lead a hypnotic sound bath\, I verbally guide and lead you on your sound healing journey. In the beginning\, the instruments are like soothing sounds that will gently ease you into a meditative state. From there\, my words and the intuitively played instruments will take turns guiding you deeper to the center of our focused healing. Your unconscious mind will meet and release what is ready as the energetic intention holds compassionate space for you. Each session will sound and feel different as I intuitively tune into what is needed. \nYour confirmation email will give you pointers on what to bring and the exact location in Kanata.[/vc_column_text]\n    \n\n        \n        REGISTER HERE\n        \n\n    \n[/vc_column][/vc_row]
URL:https://groundedhypnosis.com/event/hypnotic-sound-bath-22/
LOCATION:Kanata
CATEGORIES:Social,Sound Journey
ATTACH;FMTTYPE=image/png:https://groundedhypnosis.com/wp-content/uploads/2023/11/Sleek-and-Neutral-Spa-Business-Facebook-Ad-Facebook-Cover-Dec-2023.png
ORGANIZER;CN="Jennifer Lawrence":MAILTO:jennifer@groundedhypnosis.com
END:VEVENT
END:VCALENDAR