BEGIN:VCALENDAR
VERSION:2.0
PRODID:-//Grounded Hypnosis - ECPv6.15.11//NONSGML v1.0//EN
CALSCALE:GREGORIAN
METHOD:PUBLISH
X-WR-CALNAME:Grounded Hypnosis
X-ORIGINAL-URL:https://groundedhypnosis.com
X-WR-CALDESC:Events for Grounded Hypnosis
REFRESH-INTERVAL;VALUE=DURATION:PT1H
X-Robots-Tag:noindex
X-PUBLISHED-TTL:PT1H
BEGIN:VTIMEZONE
TZID:America/New_York
BEGIN:DAYLIGHT
TZOFFSETFROM:-0500
TZOFFSETTO:-0400
TZNAME:EDT
DTSTART:20230312T070000
END:DAYLIGHT
BEGIN:STANDARD
TZOFFSETFROM:-0400
TZOFFSETTO:-0500
TZNAME:EST
DTSTART:20231105T060000
END:STANDARD
BEGIN:DAYLIGHT
TZOFFSETFROM:-0500
TZOFFSETTO:-0400
TZNAME:EDT
DTSTART:20240310T070000
END:DAYLIGHT
BEGIN:STANDARD
TZOFFSETFROM:-0400
TZOFFSETTO:-0500
TZNAME:EST
DTSTART:20241103T060000
END:STANDARD
BEGIN:DAYLIGHT
TZOFFSETFROM:-0500
TZOFFSETTO:-0400
TZNAME:EDT
DTSTART:20250309T070000
END:DAYLIGHT
BEGIN:STANDARD
TZOFFSETFROM:-0400
TZOFFSETTO:-0500
TZNAME:EST
DTSTART:20251102T060000
END:STANDARD
END:VTIMEZONE
BEGIN:VEVENT
DTSTART;TZID=America/New_York:20240110T190000
DTEND;TZID=America/New_York:20240110T200000
DTSTAMP:20260422T050434
CREATED:20231218T185409Z
LAST-MODIFIED:20231218T192205Z
UID:2039-1704913200-1704916800@groundedhypnosis.com
SUMMARY:Hypnotic Sound Bath
DESCRIPTION:[vc_row][vc_column]\n    \n\n        \n        REGISTER HERE\n        \n\n    \n[vc_column_text]Together we create intentional release\, healing and connection in our powerful Hypnotic Sound Baths experiences. \nJoin me on Wednesday\, January 10th & 24th at 7 pm in Kanata (location will be emailed to you). You can register for single sessions at $30 each or both for a better price of $55 \nThe Oracle Read add on is $15 \nWant a deeper understanding of what a Hypnotic Sound Bath entails? \nVibrations of fast and slow\, high and low will ripple around you and through you as I guide you on journey inward. Healing hypnotic techniques will be harmoniously woven through the sound to create a supported and safe space. The sound bath will include a wide range of carefully selected instruments that will feature a beautiful set of crystal singing bowls. You may sit or lay down during the session as you allow the deeply calming experience to wash over and through you. \nWhen I lead a hypnotic sound bath\, I verbally guide and lead you on your sound healing journey. In the beginning\, the instruments are like soothing sounds that will gently ease you into a meditative state. From there\, my words and the intuitively played instruments will take turns guiding you deeper to the center of our focused healing. Your unconscious mind will meet and release what is ready as the energetic intention holds compassionate space for you. Each session will sound and feel different as I intuitively tune into what is needed. \nYour confirmation email will give you pointers on what to bring and the exact location in Kanata.[/vc_column_text]\n    \n\n        \n        REGISTER HERE\n        \n\n    \n[/vc_column][/vc_row]
URL:https://groundedhypnosis.com/event/2039/
LOCATION:Kanata
ATTACH;FMTTYPE=image/png:https://groundedhypnosis.com/wp-content/uploads/2023/12/January-2024-Soundbath-Poster.png
ORGANIZER;CN="Jennifer Lawrence":MAILTO:jennifer@groundedhypnosis.com
END:VEVENT
BEGIN:VEVENT
DTSTART;TZID=America/New_York:20240119T190000
DTEND;TZID=America/New_York:20240119T213000
DTSTAMP:20260422T050434
CREATED:20240104T173838Z
LAST-MODIFIED:20240104T175737Z
UID:2094-1705690800-1705699800@groundedhypnosis.com
SUMMARY:Your Block Buster Year
DESCRIPTION:[vc_row][vc_column]\n    \n\n        \n        REGISTER HERE\n        \n\n    \n[vc_column_text]Make this your Block Buster Year \nTogether I’ll guide you through activities that will break up old patterns that block you from the life you want\, help you release old energy\, and bathe you in higher vibrations that will align you with your desired changes. You’ll leave feeling lighter\, calmer\, and more ready to live your Block Buster Year. \nWhat: Your Block Buster Year! \nWhen: Friday\, January 19 from 7-9:30 pm \nWhere: Rooted Transformations (lower level) 1435 Dunning Rd\, Cumberland\, Ontario \nInvestment: $111 \nIn this powerful Block Busting Evening you’ll: \n\nLeave feeling more relaxed and calm\,\nHave Reached and Released old unconscious/automatic programs\,\nFeel connected and positive about your 2024 visions\,\nKnow you have taken steps on the right path\,\nBe flowing with higher vibrations!\n\nJoin in the circle of Connection\, Release\, Group Hypnosis and an integrative high vibration Sound Bath that will leave you ready for a Block Buster Year![/vc_column_text]\n    \n\n        \n        REGISTER HERE\n        \n\n    \n[/vc_column][/vc_row]
URL:https://groundedhypnosis.com/event/your-block-buster-year/
LOCATION:Rooted Transformations (lower level)\, 1435 Dunning Rd\, Cumberland\, Ontario\, K4C 1R1\, Canada
CATEGORIES:Event,Your Block Buster Year
ATTACH;FMTTYPE=image/jpeg:https://groundedhypnosis.com/wp-content/uploads/2024/01/Your-Block-Buster-Year.jpg
ORGANIZER;CN="Jennifer Lawrence":MAILTO:jennifer@groundedhypnosis.com
END:VEVENT
BEGIN:VEVENT
DTSTART;TZID=America/New_York:20240124T190000
DTEND;TZID=America/New_York:20240124T210000
DTSTAMP:20260422T050434
CREATED:20231218T190953Z
LAST-MODIFIED:20231218T192351Z
UID:2050-1706122800-1706130000@groundedhypnosis.com
SUMMARY:Hypnotic Sound Bath
DESCRIPTION:[vc_row][vc_column]\n    \n\n        \n        REGISTER HERE\n        \n\n    \n[vc_column_text]Together we create intentional release\, healing and connection in our powerful Hypnotic Sound Baths experiences. \nJoin me on Wednesday\, January 10th & 24th at 7 pm in Kanata (location will be emailed to you). You can register for single sessions at $30 each or both for a better price of $55 \nThe Oracle Read add on is $15 \nWant a deeper understanding of what a Hypnotic Sound Bath entails? \nVibrations of fast and slow\, high and low will ripple around you and through you as I guide you on journey inward. Healing hypnotic techniques will be harmoniously woven through the sound to create a supported and safe space. The sound bath will include a wide range of carefully selected instruments that will feature a beautiful set of crystal singing bowls. You may sit or lay down during the session as you allow the deeply calming experience to wash over and through you. \nWhen I lead a hypnotic sound bath\, I verbally guide and lead you on your sound healing journey. In the beginning\, the instruments are like soothing sounds that will gently ease you into a meditative state. From there\, my words and the intuitively played instruments will take turns guiding you deeper to the center of our focused healing. Your unconscious mind will meet and release what is ready as the energetic intention holds compassionate space for you. Each session will sound and feel different as I intuitively tune into what is needed. \nYour confirmation email will give you pointers on what to bring and the exact location in Kanata.[/vc_column_text]\n    \n\n        \n        REGISTER HERE\n        \n\n    \n[/vc_column][/vc_row]
URL:https://groundedhypnosis.com/event/2050/
LOCATION:Kanata
ATTACH;FMTTYPE=image/png:https://groundedhypnosis.com/wp-content/uploads/2023/12/January-2024-Soundbath-Poster.png
ORGANIZER;CN="Jennifer Lawrence":MAILTO:jennifer@groundedhypnosis.com
END:VEVENT
END:VCALENDAR