BEGIN:VCALENDAR
VERSION:2.0
PRODID:-//Grounded Hypnosis - ECPv6.15.11//NONSGML v1.0//EN
CALSCALE:GREGORIAN
METHOD:PUBLISH
X-ORIGINAL-URL:https://groundedhypnosis.com
X-WR-CALDESC:Events for Grounded Hypnosis
REFRESH-INTERVAL;VALUE=DURATION:PT1H
X-Robots-Tag:noindex
X-PUBLISHED-TTL:PT1H
BEGIN:VTIMEZONE
TZID:America/New_York
BEGIN:DAYLIGHT
TZOFFSETFROM:-0500
TZOFFSETTO:-0400
TZNAME:EDT
DTSTART:20230312T070000
END:DAYLIGHT
BEGIN:STANDARD
TZOFFSETFROM:-0400
TZOFFSETTO:-0500
TZNAME:EST
DTSTART:20231105T060000
END:STANDARD
BEGIN:DAYLIGHT
TZOFFSETFROM:-0500
TZOFFSETTO:-0400
TZNAME:EDT
DTSTART:20240310T070000
END:DAYLIGHT
BEGIN:STANDARD
TZOFFSETFROM:-0400
TZOFFSETTO:-0500
TZNAME:EST
DTSTART:20241103T060000
END:STANDARD
BEGIN:DAYLIGHT
TZOFFSETFROM:-0500
TZOFFSETTO:-0400
TZNAME:EDT
DTSTART:20250309T070000
END:DAYLIGHT
BEGIN:STANDARD
TZOFFSETFROM:-0400
TZOFFSETTO:-0500
TZNAME:EST
DTSTART:20251102T060000
END:STANDARD
END:VTIMEZONE
BEGIN:VEVENT
DTSTART;TZID=America/New_York:20240403T190000
DTEND;TZID=America/New_York:20240403T200000
DTSTAMP:20260421T233040
CREATED:20240323T160303Z
LAST-MODIFIED:20240323T161928Z
UID:2286-1712170800-1712174400@groundedhypnosis.com
SUMMARY:Hypnotic Sound Bath
DESCRIPTION:[vc_row][vc_column]\n    \n\n        \n        REGISTER HERE\n        \n\n    \n[vc_column_text]Together we create intentional release\, healing and connection in our powerful Hypnotic Sound Baths experiences. \nJoin me on Wednesday\, April 3rd & 17th at 7 pm in Kanata (location will be emailed to you). You can register for single sessions at $30 each or both for a better price of $55. \nThe Oracle Read add-on is $15. \nWant a deeper understanding of what a Hypnotic Sound Bath entails? \nVibrations of fast and slow\, high and low will ripple around you and through you as I guide you on journey inward. Healing hypnotic techniques will be harmoniously woven through the sound to create a supported and safe space. The sound bath will include a wide range of carefully selected instruments that will feature a beautiful set of crystal singing bowls. You may sit or lay down during the session as you allow the deeply calming experience to wash over and through you. \nWhen I lead a hypnotic sound bath\, I verbally guide and lead you on your sound healing journey. In the beginning\, the instruments are like soothing sounds that will gently ease you into a meditative state. From there\, my words and the intuitively played instruments will take turns guiding you deeper to the center of our focused healing. Your unconscious mind will meet and release what is ready as the energetic intention holds compassionate space for you. Each session will sound and feel different as I intuitively tune into what is needed. \nYour confirmation email will give you pointers on what to bring and the exact location in Kanata.[/vc_column_text]\n    \n\n        \n        REGISTER HERE\n        \n\n    \n[/vc_column][/vc_row]
URL:https://groundedhypnosis.com/event/april-3-2024/
LOCATION:The Grounding Room\, Ontario\, Canada
CATEGORIES:Sound Journey
ATTACH;FMTTYPE=image/jpeg:https://groundedhypnosis.com/wp-content/uploads/2024/03/April-2024-Sound-Bath.jpeg
ORGANIZER;CN="Jennifer Lawrence":MAILTO:jennifer@groundedhypnosis.com
END:VEVENT
BEGIN:VEVENT
DTSTART;TZID=America/New_York:20240417T190000
DTEND;TZID=America/New_York:20240417T210000
DTSTAMP:20260421T233040
CREATED:20240323T162014Z
LAST-MODIFIED:20240323T162405Z
UID:2294-1713380400-1713387600@groundedhypnosis.com
SUMMARY:Hypnotic Sound Bath
DESCRIPTION:[vc_row][vc_column]\n    \n\n        \n        REGISTER HERE\n        \n\n    \n[vc_column_text] \n\n\nTogether we create intentional release\, healing and connection in our powerful Hypnotic Sound Baths experiences. \nJoin me on Wednesday\, April 3rd & 17th at 7 pm in Kanata (location will be emailed to you). You can register for single sessions at $30 each or both for a better price of $55. \nThe Oracle Read add-on is $15. \nWant a deeper understanding of what a Hypnotic Sound Bath entails? \nVibrations of fast and slow\, high and low will ripple around you and through you as I guide you on journey inward. Healing hypnotic techniques will be harmoniously woven through the sound to create a supported and safe space. The sound bath will include a wide range of carefully selected instruments that will feature a beautiful set of crystal singing bowls. You may sit or lay down during the session as you allow the deeply calming experience to wash over and through you. \nWhen I lead a hypnotic sound bath\, I verbally guide and lead you on your sound healing journey. In the beginning\, the instruments are like soothing sounds that will gently ease you into a meditative state. From there\, my words and the intuitively played instruments will take turns guiding you deeper to the center of our focused healing. Your unconscious mind will meet and release what is ready as the energetic intention holds compassionate space for you. Each session will sound and feel different as I intuitively tune into what is needed. \nYour confirmation email will give you pointers on what to bring and the exact location in Kanata. \n\n\n[/vc_column_text]\n    \n\n        \n        REGISTER HERE\n        \n\n    \n[/vc_column][/vc_row]
URL:https://groundedhypnosis.com/event/april-17-2024/
LOCATION:The Grounding Room\, Ontario\, Canada
CATEGORIES:Social,Sound Journey
ATTACH;FMTTYPE=image/jpeg:https://groundedhypnosis.com/wp-content/uploads/2024/03/April-2024-Sound-Bath.jpeg
ORGANIZER;CN="Jennifer Lawrence":MAILTO:jennifer@groundedhypnosis.com
END:VEVENT
END:VCALENDAR