BEGIN:VCALENDAR
VERSION:2.0
PRODID:-//Grounded Hypnosis - ECPv6.15.11//NONSGML v1.0//EN
CALSCALE:GREGORIAN
METHOD:PUBLISH
X-ORIGINAL-URL:https://groundedhypnosis.com
X-WR-CALDESC:Events for Grounded Hypnosis
REFRESH-INTERVAL;VALUE=DURATION:PT1H
X-Robots-Tag:noindex
X-PUBLISHED-TTL:PT1H
BEGIN:VTIMEZONE
TZID:America/New_York
BEGIN:DAYLIGHT
TZOFFSETFROM:-0500
TZOFFSETTO:-0400
TZNAME:EDT
DTSTART:20230312T070000
END:DAYLIGHT
BEGIN:STANDARD
TZOFFSETFROM:-0400
TZOFFSETTO:-0500
TZNAME:EST
DTSTART:20231105T060000
END:STANDARD
BEGIN:DAYLIGHT
TZOFFSETFROM:-0500
TZOFFSETTO:-0400
TZNAME:EDT
DTSTART:20240310T070000
END:DAYLIGHT
BEGIN:STANDARD
TZOFFSETFROM:-0400
TZOFFSETTO:-0500
TZNAME:EST
DTSTART:20241103T060000
END:STANDARD
BEGIN:DAYLIGHT
TZOFFSETFROM:-0500
TZOFFSETTO:-0400
TZNAME:EDT
DTSTART:20250309T070000
END:DAYLIGHT
BEGIN:STANDARD
TZOFFSETFROM:-0400
TZOFFSETTO:-0500
TZNAME:EST
DTSTART:20251102T060000
END:STANDARD
END:VTIMEZONE
BEGIN:VEVENT
DTSTART;TZID=America/New_York:20240807T190000
DTEND;TZID=America/New_York:20240807T200000
DTSTAMP:20260421T161535
CREATED:20240703T153707Z
LAST-MODIFIED:20240703T154445Z
UID:2565-1723057200-1723060800@groundedhypnosis.com
SUMMARY:Hypnotic Sound Bath
DESCRIPTION:[vc_row][vc_column]\n    \n\n        \n        Learn More\n        \n\n    \n[vc_column_text]Together we create intentional release\, healing and connection in our powerful Hypnotic Sound Baths experiences. \nJoin me on Wednesday\, August 7th & 21st at 7 pm in Kanata (location will be emailed to you). You can register for single sessions at $30 each or both for a better price of $55. \nNote: The social will be held on August 21st. \nThe Oracle Read add-on is $15.[/vc_column_text]\n    \n\n        \n        Register Here\n        \n\n    \n[/vc_column][/vc_row]
URL:https://groundedhypnosis.com/event/2565/
LOCATION:The Grounding Room\, Ontario\, Canada
CATEGORIES:Sound Journey
ATTACH;FMTTYPE=image/jpeg:https://groundedhypnosis.com/wp-content/uploads/2024/07/August_2024_Soundbath.jpg
ORGANIZER;CN="Jennifer Lawrence":MAILTO:jennifer@groundedhypnosis.com
END:VEVENT
BEGIN:VEVENT
DTSTART;TZID=America/New_York:20240821T190000
DTEND;TZID=America/New_York:20240821T210000
DTSTAMP:20260421T161535
CREATED:20240703T154508Z
LAST-MODIFIED:20240703T154853Z
UID:2572-1724266800-1724274000@groundedhypnosis.com
SUMMARY:Hypnotic Sound Bath and Social
DESCRIPTION:[vc_row][vc_column]\n    \n\n        \n        Learn More\n        \n\n    \n[vc_column_text]Together we create intentional release\, healing and connection in our powerful Hypnotic Sound Baths experiences. \nJoin me on Wednesday\, August 7th & 21st at 7 pm in Kanata (location will be emailed to you). You can register for single sessions at $30 each or both for a better price of $55. \nNote: The social will be held on August 21st. \nThe Oracle Read add-on is $15.[/vc_column_text]\n    \n\n        \n        Register Here\n        \n\n    \n[/vc_column][/vc_row]
URL:https://groundedhypnosis.com/event/2572/
LOCATION:The Grounding Room\, Ontario\, Canada
CATEGORIES:Social,Sound Journey
ATTACH;FMTTYPE=image/jpeg:https://groundedhypnosis.com/wp-content/uploads/2024/07/August_2024_Soundbath.jpg
ORGANIZER;CN="Jennifer Lawrence":MAILTO:jennifer@groundedhypnosis.com
END:VEVENT
END:VCALENDAR