BEGIN:VCALENDAR
VERSION:2.0
PRODID:-//Grounded Hypnosis - ECPv6.15.11//NONSGML v1.0//EN
CALSCALE:GREGORIAN
METHOD:PUBLISH
X-WR-CALNAME:Grounded Hypnosis
X-ORIGINAL-URL:https://groundedhypnosis.com
X-WR-CALDESC:Events for Grounded Hypnosis
REFRESH-INTERVAL;VALUE=DURATION:PT1H
X-Robots-Tag:noindex
X-PUBLISHED-TTL:PT1H
BEGIN:VTIMEZONE
TZID:America/New_York
BEGIN:DAYLIGHT
TZOFFSETFROM:-0500
TZOFFSETTO:-0400
TZNAME:EDT
DTSTART:20230312T070000
END:DAYLIGHT
BEGIN:STANDARD
TZOFFSETFROM:-0400
TZOFFSETTO:-0500
TZNAME:EST
DTSTART:20231105T060000
END:STANDARD
BEGIN:DAYLIGHT
TZOFFSETFROM:-0500
TZOFFSETTO:-0400
TZNAME:EDT
DTSTART:20240310T070000
END:DAYLIGHT
BEGIN:STANDARD
TZOFFSETFROM:-0400
TZOFFSETTO:-0500
TZNAME:EST
DTSTART:20241103T060000
END:STANDARD
BEGIN:DAYLIGHT
TZOFFSETFROM:-0500
TZOFFSETTO:-0400
TZNAME:EDT
DTSTART:20250309T070000
END:DAYLIGHT
BEGIN:STANDARD
TZOFFSETFROM:-0400
TZOFFSETTO:-0500
TZNAME:EST
DTSTART:20251102T060000
END:STANDARD
END:VTIMEZONE
BEGIN:VEVENT
DTSTART;TZID=America/New_York:20241002T190000
DTEND;TZID=America/New_York:20241002T200000
DTSTAMP:20260421T125533
CREATED:20240902T132934Z
LAST-MODIFIED:20240902T134403Z
UID:2623-1727895600-1727899200@groundedhypnosis.com
SUMMARY:Hypnotic Sound Bath
DESCRIPTION:[vc_row][vc_column]\n    \n\n        \n        More Info\n        \n\n    \n[vc_column_text]Together we create intentional release\, healing and connection in our powerful Hypnotic Sound Baths experiences. \nJoin me on Wednesday\, October 2nd\, 16th & 30th at 7 pm in Kanata (location will be emailed to you). You can register for single sessions at $30 each or all three for a better price of $80. \nNote: The social will be held on October 30th. \nThe Oracle Read add-on is $15[/vc_column_text]\n    \n\n        \n        Register Here\n        \n\n    \n[/vc_column][/vc_row]
URL:https://groundedhypnosis.com/event/2623/
LOCATION:The Grounding Room\, Ontario\, Canada
CATEGORIES:Sound Journey
ATTACH;FMTTYPE=image/jpeg:https://groundedhypnosis.com/wp-content/uploads/2024/09/October-2024-Sound-Bath.jpg
ORGANIZER;CN="Jennifer Lawrence":MAILTO:jennifer@groundedhypnosis.com
END:VEVENT
BEGIN:VEVENT
DTSTART;TZID=America/New_York:20241016T190000
DTEND;TZID=America/New_York:20241016T200000
DTSTAMP:20260421T125533
CREATED:20240902T133657Z
LAST-MODIFIED:20240902T135151Z
UID:2630-1729105200-1729108800@groundedhypnosis.com
SUMMARY:Hypnotic Sound Bath
DESCRIPTION:[vc_row][vc_column]\n    \n\n        \n        More Info\n        \n\n    \n[vc_column_text]Together we create intentional release\, healing and connection in our powerful Hypnotic Sound Baths experiences. \nJoin me on Wednesday\, October 2nd\, 16th & 30th at 7 pm in Kanata (location will be emailed to you). You can register for single sessions at $30 each or all three for a better price of $80. \nNote: The social will be held on October 30th. \nThe Oracle Read add-on is $15[/vc_column_text]\n    \n\n        \n        Register Here\n        \n\n    \n[/vc_column][/vc_row]
URL:https://groundedhypnosis.com/event/2630/
LOCATION:The Grounding Room\, Ontario\, Canada
CATEGORIES:Sound Journey
ATTACH;FMTTYPE=image/jpeg:https://groundedhypnosis.com/wp-content/uploads/2024/09/October-2024-Sound-Bath.jpg
ORGANIZER;CN="Jennifer Lawrence":MAILTO:jennifer@groundedhypnosis.com
END:VEVENT
BEGIN:VEVENT
DTSTART;TZID=America/New_York:20241030T190000
DTEND;TZID=America/New_York:20241030T210000
DTSTAMP:20260421T125533
CREATED:20240902T134429Z
LAST-MODIFIED:20241026T160902Z
UID:2635-1730314800-1730322000@groundedhypnosis.com
SUMMARY:ALL SPOTS FILLED!  Thank you!  - Hypnotic Sound Bath
DESCRIPTION:[vc_row][vc_column]\n    \n\n        \n        More Info\n        \n\n    \n[vc_column_text]Together we create intentional release\, healing and connection in our powerful Hypnotic Sound Baths experiences. \nJoin me on Wednesday\, October 2nd\, 16th & 30th at 7 pm in Kanata (location will be emailed to you). You can register for single sessions at $30 each or all three for a better price of $80. \nNote: The social will be held on October 30th. \nThe Oracle Read add-on is $15[/vc_column_text][/vc_column][/vc_row]
URL:https://groundedhypnosis.com/event/2635/
LOCATION:The Grounding Room\, Ontario\, Canada
CATEGORIES:Social,Sound Journey
ATTACH;FMTTYPE=image/jpeg:https://groundedhypnosis.com/wp-content/uploads/2024/09/October-2024-Sound-Bath.jpg
ORGANIZER;CN="Jennifer Lawrence":MAILTO:jennifer@groundedhypnosis.com
END:VEVENT
END:VCALENDAR