BEGIN:VCALENDAR
VERSION:2.0
PRODID:-//Grounded Hypnosis - ECPv6.15.11//NONSGML v1.0//EN
CALSCALE:GREGORIAN
METHOD:PUBLISH
X-ORIGINAL-URL:https://groundedhypnosis.com
X-WR-CALDESC:Events for Grounded Hypnosis
REFRESH-INTERVAL;VALUE=DURATION:PT1H
X-Robots-Tag:noindex
X-PUBLISHED-TTL:PT1H
BEGIN:VTIMEZONE
TZID:America/New_York
BEGIN:DAYLIGHT
TZOFFSETFROM:-0500
TZOFFSETTO:-0400
TZNAME:EDT
DTSTART:20250309T070000
END:DAYLIGHT
BEGIN:STANDARD
TZOFFSETFROM:-0400
TZOFFSETTO:-0500
TZNAME:EST
DTSTART:20251102T060000
END:STANDARD
BEGIN:DAYLIGHT
TZOFFSETFROM:-0500
TZOFFSETTO:-0400
TZNAME:EDT
DTSTART:20260308T070000
END:DAYLIGHT
BEGIN:STANDARD
TZOFFSETFROM:-0400
TZOFFSETTO:-0500
TZNAME:EST
DTSTART:20261101T060000
END:STANDARD
BEGIN:DAYLIGHT
TZOFFSETFROM:-0500
TZOFFSETTO:-0400
TZNAME:EDT
DTSTART:20270314T070000
END:DAYLIGHT
BEGIN:STANDARD
TZOFFSETFROM:-0400
TZOFFSETTO:-0500
TZNAME:EST
DTSTART:20271107T060000
END:STANDARD
END:VTIMEZONE
BEGIN:VEVENT
DTSTART;TZID=America/New_York:20260321T103000
DTEND;TZID=America/New_York:20260321T183000
DTSTAMP:20260420T111604
CREATED:20260302T234109Z
LAST-MODIFIED:20260303T000129Z
UID:4061-1774089000-1774117800@groundedhypnosis.com
SUMMARY:Renewal Retreat
DESCRIPTION:[vc_row][vc_column][vc_column_text]We will have some guest space holders joining us alongside Akaiy’ha who will be guiding the Womb Steam and song circle. Jennifer Lawrence of Grounded Hypnosis will guide us through a Sound Journey and Rev C will guide us through a breathwork experience. \nIncluded in your day is a light lunch & dinner\, use of Womb Steaming Seat\, Intuitive Herb Steam Blend\, and a cup of Cacao.\nWe begin at 10:30 am and end at 6:30pm \nFull details of what to bring and exact address will be sent once registration is complete. Location is 45 mins west of Wakefield\, QC.\nEnergy Exchange : $111-$222 sliding scale\n(if this range is out of reach please contact us for other forms of exchange) \nTo register or for any inquiries\, please click the link and fill out the form.[/vc_column_text][/vc_column][/vc_row][vc_row][vc_column][vc_btn title=”Register” color=”purple” align=”center” link=”url:https%3A%2F%2Fmedicinewomenrise.com%2Frenewal%2F|title:Renewal%20Retreat|target:_blank”][/vc_column][/vc_row]
URL:https://groundedhypnosis.com/event/renewal-retreat/
LOCATION:45 minutes west of Wakefield\, QC
CATEGORIES:Renewal Retreat,Retreat
ATTACH;FMTTYPE=image/jpeg:https://groundedhypnosis.com/wp-content/uploads/2026/02/cdab3c19-b62d-4db7-b804-a87667b5263f-cee9d75f81a48803b2feb5c339297831-e1772494935298.jpeg
END:VEVENT
END:VCALENDAR