BEGIN:VCALENDAR
VERSION:2.0
PRODID:-//Grounded Hypnosis - ECPv6.15.11//NONSGML v1.0//EN
CALSCALE:GREGORIAN
METHOD:PUBLISH
X-WR-CALNAME:Grounded Hypnosis
X-ORIGINAL-URL:https://groundedhypnosis.com
X-WR-CALDESC:Events for Grounded Hypnosis
REFRESH-INTERVAL;VALUE=DURATION:PT1H
X-Robots-Tag:noindex
X-PUBLISHED-TTL:PT1H
BEGIN:VTIMEZONE
TZID:America/New_York
BEGIN:DAYLIGHT
TZOFFSETFROM:-0500
TZOFFSETTO:-0400
TZNAME:EDT
DTSTART:20240310T070000
END:DAYLIGHT
BEGIN:STANDARD
TZOFFSETFROM:-0400
TZOFFSETTO:-0500
TZNAME:EST
DTSTART:20241103T060000
END:STANDARD
BEGIN:DAYLIGHT
TZOFFSETFROM:-0500
TZOFFSETTO:-0400
TZNAME:EDT
DTSTART:20250309T070000
END:DAYLIGHT
BEGIN:STANDARD
TZOFFSETFROM:-0400
TZOFFSETTO:-0500
TZNAME:EST
DTSTART:20251102T060000
END:STANDARD
BEGIN:DAYLIGHT
TZOFFSETFROM:-0500
TZOFFSETTO:-0400
TZNAME:EDT
DTSTART:20260308T070000
END:DAYLIGHT
BEGIN:STANDARD
TZOFFSETFROM:-0400
TZOFFSETTO:-0500
TZNAME:EST
DTSTART:20261101T060000
END:STANDARD
END:VTIMEZONE
BEGIN:VEVENT
DTSTART;TZID=America/New_York:20250304T190000
DTEND;TZID=America/New_York:20250304T203000
DTSTAMP:20260421T080314
CREATED:20241218T214441Z
LAST-MODIFIED:20250227T154741Z
UID:2983-1741114800-1741120200@groundedhypnosis.com
SUMMARY:All Spaces Filled - Hypnotic Sound Journey
DESCRIPTION:[vc_row][vc_column][vc_btn title=”What is a Hypnotic Sound Bath?” style=”outline” color=”purple” link=”url:https%3A%2F%2Fgroundedhypnosis.com%2Fgrounded-hypnosis-services%2Fhypnotic-sound-journeys%2F|title:Hypnotic%20Sound%20Journeys|target:_blank”][vc_column_text]NOTE: this week’s event will be held on Tuesday evening. \nThe energy is shifting as spring approaches and balancing the push/pull of the changing season is important to do with grace and compassion. Come and experience the support of community and the calibration that sound frequencies offer in navigating this time. \nJoin us as we immerse ourselves in a cozy\, intimate\, supportive setting that allows you the space to truly release\, heal and connect as you’re guided on a mystical journey inward. Notice the shifts in the moment and how they ripple out into your day to day life. Allow yourself to be held and cared for in this time of balancing. \nWe will have a Social following the Journey on the 19th. \nMini-Oracle reads available for those that select it on the registration page below.[/vc_column_text][vc_toggle title=”We will have a Social following the Journey on the 19th.” color=”purple” size=”lg”]Ever wondered how to make friends as an adult? After all we’ve been through in the past few years\, some friends you once had might not “fit” into your world the same and others may have fallen out of contact with. Many are looking for a deeper more soulful connection. As such\, I am offering a loved and needed “Sound Bath Social” that takes place on the last sound bath of the month. \nThis social is designed to allow for the participants to deepen the feeling of connection and community by informally getting to know one another. We hangout\, chat\, laugh and enjoy yummy snacks. Many have commented on how easily they’ve been able to feel comfortable and included in the group. You are welcome to stay for part or all of the social. I encourage you to honour what your heart and soul needs on that evening.[/vc_toggle][vc_toggle title=”Mini-Oracle reads available for those that select it on the registration page.” color=”purple” size=”lg”]Mini-Oracle card readings offer the opportunity for your spirit guides\, oracles\, or source to give you messages. These messages show up initially in the cards that are pulled for you. I also channel\, inspired by the cards\, any other insights or understandings that spirit wants you to know\, so that you can have more clarity in your life. These mini readings include cards pulled from one or two decks. If you are interested in this offering it will be an “add on” that you can participate in before or after the Sound Bath. I’ll email you to set up the time. For those that would like to add this feature on\, you can select it on the registration page.[/vc_toggle][/vc_column][/vc_row]
URL:https://groundedhypnosis.com/event/2983/
LOCATION:The Grounding Room\, Ontario\, Canada
CATEGORIES:Sound Journey
ATTACH;FMTTYPE=image/png:https://groundedhypnosis.com/wp-content/uploads/2024/12/Hypnotic-Sound-Journey-March_4-2025-e1735320248178.png
ORGANIZER;CN="Jennifer Lawrence":MAILTO:jennifer@groundedhypnosis.com
END:VEVENT
END:VCALENDAR